BEGIN:VCALENDAR
VERSION:2.0
PRODID:-//John Walter Cape Community Band - ECPv6.15.20//NONSGML v1.0//EN
CALSCALE:GREGORIAN
METHOD:PUBLISH
X-WR-CALNAME:John Walter Cape Community Band
X-ORIGINAL-URL:https://johnwalterband.org
X-WR-CALDESC:Events for John Walter Cape Community Band
REFRESH-INTERVAL;VALUE=DURATION:PT1H
X-Robots-Tag:noindex
X-PUBLISHED-TTL:PT1H
BEGIN:VTIMEZONE
TZID:America/New_York
BEGIN:DAYLIGHT
TZOFFSETFROM:-0500
TZOFFSETTO:-0400
TZNAME:EDT
DTSTART:20240310T070000
END:DAYLIGHT
BEGIN:STANDARD
TZOFFSETFROM:-0400
TZOFFSETTO:-0500
TZNAME:EST
DTSTART:20241103T060000
END:STANDARD
BEGIN:DAYLIGHT
TZOFFSETFROM:-0500
TZOFFSETTO:-0400
TZNAME:EDT
DTSTART:20250309T070000
END:DAYLIGHT
BEGIN:STANDARD
TZOFFSETFROM:-0400
TZOFFSETTO:-0500
TZNAME:EST
DTSTART:20251102T060000
END:STANDARD
BEGIN:DAYLIGHT
TZOFFSETFROM:-0500
TZOFFSETTO:-0400
TZNAME:EDT
DTSTART:20260308T070000
END:DAYLIGHT
BEGIN:STANDARD
TZOFFSETFROM:-0400
TZOFFSETTO:-0500
TZNAME:EST
DTSTART:20261101T060000
END:STANDARD
END:VTIMEZONE
BEGIN:VEVENT
DTSTART;TZID=America/New_York:20251122T170000
DTEND;TZID=America/New_York:20251122T190000
DTSTAMP:20260422T211414
CREATED:20250106T022608Z
LAST-MODIFIED:20250106T022608Z
UID:279-1763830800-1763838000@johnwalterband.org
SUMMARY:John Walter Cape Community Band Concert at Emlen Physick Estate Tree Lighting Ceremony
DESCRIPTION:Enjoy the sounds of the John Walter Cape Community Band as we celebrate the lighting of the Christmas tree at the Emlen Physick Estate in Cape May!  Starting at 5:00\, a small group of musicians will stroll the grounds playing familiar Christmas carols.  At 5:30\, the full band will play until 6:50 before the speeches and lighting of the Christmas tree.  Please come and enjoy this special Christmas experience!
URL:https://johnwalterband.org/event/john-walter-cape-community-band-concert-at-emlen-physick-estate-tree-lighting-ceremony/
LOCATION:Emlen Physick Estate\, 1048 Washington St\, Cape May\, NJ\, 08204\, United States
CATEGORIES:Community Band
END:VEVENT
END:VCALENDAR