BEGIN:VCALENDAR
VERSION:2.0
PRODID:-//John Walter Cape Community Band - ECPv6.15.20//NONSGML v1.0//EN
CALSCALE:GREGORIAN
METHOD:PUBLISH
X-ORIGINAL-URL:https://johnwalterband.org
X-WR-CALDESC:Events for John Walter Cape Community Band
REFRESH-INTERVAL;VALUE=DURATION:PT1H
X-Robots-Tag:noindex
X-PUBLISHED-TTL:PT1H
BEGIN:VTIMEZONE
TZID:America/New_York
BEGIN:DAYLIGHT
TZOFFSETFROM:-0500
TZOFFSETTO:-0400
TZNAME:EDT
DTSTART:20250309T070000
END:DAYLIGHT
BEGIN:STANDARD
TZOFFSETFROM:-0400
TZOFFSETTO:-0500
TZNAME:EST
DTSTART:20251102T060000
END:STANDARD
BEGIN:DAYLIGHT
TZOFFSETFROM:-0500
TZOFFSETTO:-0400
TZNAME:EDT
DTSTART:20260308T070000
END:DAYLIGHT
BEGIN:STANDARD
TZOFFSETFROM:-0400
TZOFFSETTO:-0500
TZNAME:EST
DTSTART:20261101T060000
END:STANDARD
BEGIN:DAYLIGHT
TZOFFSETFROM:-0500
TZOFFSETTO:-0400
TZNAME:EDT
DTSTART:20270314T070000
END:DAYLIGHT
BEGIN:STANDARD
TZOFFSETFROM:-0400
TZOFFSETTO:-0500
TZNAME:EST
DTSTART:20271107T060000
END:STANDARD
END:VTIMEZONE
BEGIN:VEVENT
DTSTART;TZID=America/New_York:20261112T190000
DTEND;TZID=America/New_York:20261112T200000
DTSTAMP:20260422T235433
CREATED:20260217T201616Z
LAST-MODIFIED:20260217T201733Z
UID:857-1794510000-1794513600@johnwalterband.org
SUMMARY:John Walter Cape Community Band Christmas Concert at St. John Neumann
DESCRIPTION:Enjoy your favorite winter holiday music as the John Walter Cape Community Band presents its 2026 Christmas concert\, hosted by St. John Neumann Catholic Church in Cape May. This outstanding performance will include popular Christmas music and other holiday tunes that are sure to entertain audiences young and old. The concert is free! \nThere will be plenty of seats in a climate-controlled room for anyone interested in hearing live Christmas music on this Thursday night. Also\, the band is collecting non-perishable food items to benefit local area food banks and shelters.
URL:https://johnwalterband.org/event/john-walter-cape-community-band-christmas-concert-at-st-john-neumann-2/
LOCATION:St. John Neumann\, 680 Town Bank Road\, North Cape May\, 08204\, United States
CATEGORIES:Community Band
END:VEVENT
END:VCALENDAR