BEGIN:VCALENDAR
VERSION:2.0
PRODID:-//John Walter Cape Community Band - ECPv6.15.20//NONSGML v1.0//EN
CALSCALE:GREGORIAN
METHOD:PUBLISH
X-ORIGINAL-URL:https://johnwalterband.org
X-WR-CALDESC:Events for John Walter Cape Community Band
REFRESH-INTERVAL;VALUE=DURATION:PT1H
X-Robots-Tag:noindex
X-PUBLISHED-TTL:PT1H
BEGIN:VTIMEZONE
TZID:America/New_York
BEGIN:DAYLIGHT
TZOFFSETFROM:-0500
TZOFFSETTO:-0400
TZNAME:EDT
DTSTART:20250309T070000
END:DAYLIGHT
BEGIN:STANDARD
TZOFFSETFROM:-0400
TZOFFSETTO:-0500
TZNAME:EST
DTSTART:20251102T060000
END:STANDARD
BEGIN:DAYLIGHT
TZOFFSETFROM:-0500
TZOFFSETTO:-0400
TZNAME:EDT
DTSTART:20260308T070000
END:DAYLIGHT
BEGIN:STANDARD
TZOFFSETFROM:-0400
TZOFFSETTO:-0500
TZNAME:EST
DTSTART:20261101T060000
END:STANDARD
BEGIN:DAYLIGHT
TZOFFSETFROM:-0500
TZOFFSETTO:-0400
TZNAME:EDT
DTSTART:20270314T070000
END:DAYLIGHT
BEGIN:STANDARD
TZOFFSETFROM:-0400
TZOFFSETTO:-0500
TZNAME:EST
DTSTART:20271107T060000
END:STANDARD
END:VTIMEZONE
BEGIN:VEVENT
DTSTART;TZID=America/New_York:20260525T093000
DTEND;TZID=America/New_York:20260525T103000
DTSTAMP:20260422T173217
CREATED:20260222T230628Z
LAST-MODIFIED:20260222T230628Z
UID:873-1779701400-1779705000@johnwalterband.org
SUMMARY:John Walter Brass Quintet Performance at Middle Township Memorial Day Ceremony
DESCRIPTION:The John Walter Brass Quintet will provide musical entertainment for all who come early for the Middle Township Memorial Day ceremony at American Legion Post #198.  The music starts at 9:30 and ends when the ceremony begins at 10:30.
URL:https://johnwalterband.org/event/john-walter-brass-quintet-performance-at-middle-township-memorial-day-ceremony/
LOCATION:Cape May Court House American Legion Post #198\, 100 Dias Creek Rd\, Cape May Court House\, NJ\, 08210\, United States
CATEGORIES:Brass Quintet
END:VEVENT
END:VCALENDAR