BEGIN:VCALENDAR
VERSION:2.0
PRODID:-//John Walter Cape Community Band - ECPv6.15.20//NONSGML v1.0//EN
CALSCALE:GREGORIAN
METHOD:PUBLISH
X-ORIGINAL-URL:https://johnwalterband.org
X-WR-CALDESC:Events for John Walter Cape Community Band
REFRESH-INTERVAL;VALUE=DURATION:PT1H
X-Robots-Tag:noindex
X-PUBLISHED-TTL:PT1H
BEGIN:VTIMEZONE
TZID:America/New_York
BEGIN:DAYLIGHT
TZOFFSETFROM:-0500
TZOFFSETTO:-0400
TZNAME:EDT
DTSTART:20240310T070000
END:DAYLIGHT
BEGIN:STANDARD
TZOFFSETFROM:-0400
TZOFFSETTO:-0500
TZNAME:EST
DTSTART:20241103T060000
END:STANDARD
BEGIN:DAYLIGHT
TZOFFSETFROM:-0500
TZOFFSETTO:-0400
TZNAME:EDT
DTSTART:20250309T070000
END:DAYLIGHT
BEGIN:STANDARD
TZOFFSETFROM:-0400
TZOFFSETTO:-0500
TZNAME:EST
DTSTART:20251102T060000
END:STANDARD
BEGIN:DAYLIGHT
TZOFFSETFROM:-0500
TZOFFSETTO:-0400
TZNAME:EDT
DTSTART:20260308T070000
END:DAYLIGHT
BEGIN:STANDARD
TZOFFSETFROM:-0400
TZOFFSETTO:-0500
TZNAME:EST
DTSTART:20261101T060000
END:STANDARD
END:VTIMEZONE
BEGIN:VEVENT
DTSTART;TZID=America/New_York:20250920T140000
DTEND;TZID=America/New_York:20250920T150000
DTSTAMP:20260423T001740
CREATED:20250304T234541Z
LAST-MODIFIED:20250805T205433Z
UID:466-1758376800-1758380400@johnwalterband.org
SUMMARY:John Walter Cape Community Band Concert at Avalon Free Public Library
DESCRIPTION:Enjoy a free indoor evening concert with the John Walter concert band\, hosted by the Avalon Free Public Library.  Our theme is Fun in the Sun.  Get your toes tapping and your hands clapping as the community concert band for Cape May County performs a variety of music that is sure to entertain audiences young and old.  So\, come out and join in the fun with the wonderful sounds of the John Walter Cape Community Band. \nThere will be plenty of seats in a climate-controlled room for anyone interested in hearing live music on this Saturday afternoon.  Also\, the band is collecting non-perishable food items to benefit local area food banks and shelters.
URL:https://johnwalterband.org/event/john-walter-cape-community-band-concert-at-avalon-free-public-library/
LOCATION:Avalon Free Public Library\, 235 32nd St\, Avalon\, NJ\, 08202\, United States
CATEGORIES:Community Band
END:VEVENT
END:VCALENDAR