BEGIN:VCALENDAR
VERSION:2.0
PRODID:-//John Walter Cape Community Band - ECPv6.15.20//NONSGML v1.0//EN
CALSCALE:GREGORIAN
METHOD:PUBLISH
X-ORIGINAL-URL:https://johnwalterband.org
X-WR-CALDESC:Events for John Walter Cape Community Band
REFRESH-INTERVAL;VALUE=DURATION:PT1H
X-Robots-Tag:noindex
X-PUBLISHED-TTL:PT1H
BEGIN:VTIMEZONE
TZID:America/New_York
BEGIN:DAYLIGHT
TZOFFSETFROM:-0500
TZOFFSETTO:-0400
TZNAME:EDT
DTSTART:20240310T070000
END:DAYLIGHT
BEGIN:STANDARD
TZOFFSETFROM:-0400
TZOFFSETTO:-0500
TZNAME:EST
DTSTART:20241103T060000
END:STANDARD
BEGIN:DAYLIGHT
TZOFFSETFROM:-0500
TZOFFSETTO:-0400
TZNAME:EDT
DTSTART:20250309T070000
END:DAYLIGHT
BEGIN:STANDARD
TZOFFSETFROM:-0400
TZOFFSETTO:-0500
TZNAME:EST
DTSTART:20251102T060000
END:STANDARD
BEGIN:DAYLIGHT
TZOFFSETFROM:-0500
TZOFFSETTO:-0400
TZNAME:EDT
DTSTART:20260308T070000
END:DAYLIGHT
BEGIN:STANDARD
TZOFFSETFROM:-0400
TZOFFSETTO:-0500
TZNAME:EST
DTSTART:20261101T060000
END:STANDARD
END:VTIMEZONE
BEGIN:VEVENT
DTSTART;TZID=America/New_York:20251111T123000
DTEND;TZID=America/New_York:20251111T140000
DTSTAMP:20260422T214804
CREATED:20250206T220903Z
LAST-MODIFIED:20251107T155813Z
UID:379-1762864200-1762869600@johnwalterband.org
SUMMARY:John Walter Cape Community Band Veterans Day Concert
DESCRIPTION:Come early to the Veterans Day Ceremony at the Leonard C. Desiderio Public Safety Training Gymnasium\, located at 110 Justice Way\, Cape May Court House.  The band starts performing patriotic music at 12:30 p.m.\, and the ceremony starts at 1:00 p.m.
URL:https://johnwalterband.org/event/john-walter-cape-community-band-veterans-day-concert-at-veterans-cemetery/
LOCATION:Leonard C. Desiderio Public Safety Training Gymnasium\, 110 Justice Way\, Cape May Court House\, 08210\, United States
CATEGORIES:Community Band
END:VEVENT
BEGIN:VEVENT
DTSTART;TZID=America/New_York:20251111T190000
DTEND;TZID=America/New_York:20251111T200000
DTSTAMP:20260422T214804
CREATED:20250206T214100Z
LAST-MODIFIED:20251027T190309Z
UID:370-1762887600-1762891200@johnwalterband.org
SUMMARY:John Walter Cape Community Band Holiday Concert at The Shores
DESCRIPTION:Residents of United Methodist Communities at The Shores are invited to celebrate Veterans Day with an exciting concert by the John Walter Cape Community Band.  This outstanding performance will include patriotic music appropriate for Veterans Day along with popular Christmas music and other holiday tunes that are sure to entertain.  Residents at The Shores are encouraged to come out and join in the fun with the wonderful sounds of the John Walter Cape Community Band.
URL:https://johnwalterband.org/event/john-walter-cape-community-band-christmas-concert-at-the-shores/
LOCATION:United Methodist Communities at The Shores\, 2201 Bay Ave\, ocean city\, NJ\, 08226\, United States
CATEGORIES:Community Band
END:VEVENT
BEGIN:VEVENT
DTSTART;TZID=America/New_York:20251119T190000
DTEND;TZID=America/New_York:20251119T200000
DTSTAMP:20260422T214804
CREATED:20250209T011040Z
LAST-MODIFIED:20251102T140816Z
UID:420-1763578800-1763582400@johnwalterband.org
SUMMARY:John Walter Cape Community Band Holiday Concert at Ocean City Library
DESCRIPTION:Enjoy your favorite winter holiday music as the John Walter Cape Community Band presents its 2025 holiday concert.  This outstanding performance will include popular Christmas music and other holiday tunes that are sure to entertain audiences young and old.  The band will perform in the senior center.  The concert is free!
URL:https://johnwalterband.org/event/john-walter-cape-community-band-christmas-concert-at-ocean-city-library/
LOCATION:Ocean City Library Senior Center\, 1735 Simpson Ave\, Ocean City\, NJ\, 08226\, United States
CATEGORIES:Community Band
END:VEVENT
BEGIN:VEVENT
DTSTART;TZID=America/New_York:20251122T170000
DTEND;TZID=America/New_York:20251122T190000
DTSTAMP:20260422T214804
CREATED:20250106T022608Z
LAST-MODIFIED:20250106T022608Z
UID:279-1763830800-1763838000@johnwalterband.org
SUMMARY:John Walter Cape Community Band Concert at Emlen Physick Estate Tree Lighting Ceremony
DESCRIPTION:Enjoy the sounds of the John Walter Cape Community Band as we celebrate the lighting of the Christmas tree at the Emlen Physick Estate in Cape May!  Starting at 5:00\, a small group of musicians will stroll the grounds playing familiar Christmas carols.  At 5:30\, the full band will play until 6:50 before the speeches and lighting of the Christmas tree.  Please come and enjoy this special Christmas experience!
URL:https://johnwalterband.org/event/john-walter-cape-community-band-concert-at-emlen-physick-estate-tree-lighting-ceremony/
LOCATION:Emlen Physick Estate\, 1048 Washington St\, Cape May\, NJ\, 08204\, United States
CATEGORIES:Community Band
END:VEVENT
BEGIN:VEVENT
DTSTART;TZID=America/New_York:20251129T153000
DTEND;TZID=America/New_York:20251129T173000
DTSTAMP:20260422T214804
CREATED:20250106T023242Z
LAST-MODIFIED:20250106T023242Z
UID:283-1764430200-1764437400@johnwalterband.org
SUMMARY:John Walter Cape Community Band Christmas Concert at Zoo Tree Lighting Ceremony
DESCRIPTION:Enjoy the sounds of the John Walter Band as we celebrate the lighting of the Christmas tree at the Cape May County Zoo!  Starting at 3:30\, a small group of musicians will stroll the grounds playing familiar Christmas carols.  At 4:30\, the full band will play a bit before the speeches and lighting of the Christmas tree.  Around 5:00 after the tree is lit\, the band will continue to perform for about a half hour.  Please come and enjoy this special Christmas experience!
URL:https://johnwalterband.org/event/john-walter-cape-community-band-christmas-concert-at-zoo-tree-lighting-ceremony/
LOCATION:Cape May County Zoo\, 707 US 9 South\, Cape May Courthouse\, NJ\, 08204\, United States
CATEGORIES:Community Band
END:VEVENT
END:VCALENDAR