BEGIN:VCALENDAR
VERSION:2.0
PRODID:-//John Walter Cape Community Band - ECPv6.15.20//NONSGML v1.0//EN
CALSCALE:GREGORIAN
METHOD:PUBLISH
X-ORIGINAL-URL:https://johnwalterband.org
X-WR-CALDESC:Events for John Walter Cape Community Band
REFRESH-INTERVAL;VALUE=DURATION:PT1H
X-Robots-Tag:noindex
X-PUBLISHED-TTL:PT1H
BEGIN:VTIMEZONE
TZID:America/New_York
BEGIN:DAYLIGHT
TZOFFSETFROM:-0500
TZOFFSETTO:-0400
TZNAME:EDT
DTSTART:20250309T070000
END:DAYLIGHT
BEGIN:STANDARD
TZOFFSETFROM:-0400
TZOFFSETTO:-0500
TZNAME:EST
DTSTART:20251102T060000
END:STANDARD
BEGIN:DAYLIGHT
TZOFFSETFROM:-0500
TZOFFSETTO:-0400
TZNAME:EDT
DTSTART:20260308T070000
END:DAYLIGHT
BEGIN:STANDARD
TZOFFSETFROM:-0400
TZOFFSETTO:-0500
TZNAME:EST
DTSTART:20261101T060000
END:STANDARD
BEGIN:DAYLIGHT
TZOFFSETFROM:-0500
TZOFFSETTO:-0400
TZNAME:EDT
DTSTART:20270314T070000
END:DAYLIGHT
BEGIN:STANDARD
TZOFFSETFROM:-0400
TZOFFSETTO:-0500
TZNAME:EST
DTSTART:20271107T060000
END:STANDARD
END:VTIMEZONE
BEGIN:VEVENT
DTSTART;TZID=America/New_York:20260609T190000
DTEND;TZID=America/New_York:20260609T200000
DTSTAMP:20260422T174723
CREATED:20260122T162500Z
LAST-MODIFIED:20260122T162922Z
UID:794-1781031600-1781035200@johnwalterband.org
SUMMARY:John Walter Cape Community Band Concert at St. John Neumann
DESCRIPTION:Enjoy a free indoor evening concert with the John Walter concert band\, hosted by St. John Neumann Catholic Church in Cape May.  Our theme this summer is American Music Through the Years.  Get your toes tapping and your hands clapping as the community concert band for Cape May County performs a variety of music that is sure to entertain audiences young and old.  So\, come out and join in the fun with the wonderful sounds of the John Walter Cape Community Band. \nThere will be plenty of seats in a climate-controlled room for anyone interested in hearing live music on this Tuesday night.  Also\, the band is collecting non-perishable food items to benefit local area food banks and shelters.
URL:https://johnwalterband.org/event/john-walter-cape-community-band-concert-at-st-john-neumann/
LOCATION:St. John Neumann Parish\, 680 Townbank Road\, Cape May\, NJ\, 08204\, United States
CATEGORIES:Community Band
END:VEVENT
BEGIN:VEVENT
DTSTART;TZID=America/New_York:20260616T190000
DTEND;TZID=America/New_York:20260616T200000
DTSTAMP:20260422T174723
CREATED:20260122T162734Z
LAST-MODIFIED:20260122T162734Z
UID:796-1781636400-1781640000@johnwalterband.org
SUMMARY:John Walter Cape Community Band Concert at The Shores
DESCRIPTION:Residents of United Methodist Communities at The Shores are invited to enjoy a free indoor concert with the John Walter concert band.  Our theme this summer is American Music Through the Years.  Get your toes tapping and your hands clapping as the community concert band for Cape May County performs a variety of music that is sure to entertain.  So\, come out and join in the fun with the wonderful sounds of the John Walter Cape Community Band.
URL:https://johnwalterband.org/event/john-walter-cape-community-band-concert-at-the-shores-2/
LOCATION:United Methodist Communities at The Shores\, 2201 Bay Ave\, ocean city\, NJ\, 08226\, United States
CATEGORIES:Community Band
END:VEVENT
END:VCALENDAR