BEGIN:VCALENDAR
VERSION:2.0
PRODID:-//John Walter Cape Community Band - ECPv6.15.20//NONSGML v1.0//EN
CALSCALE:GREGORIAN
METHOD:PUBLISH
X-ORIGINAL-URL:https://johnwalterband.org
X-WR-CALDESC:Events for John Walter Cape Community Band
REFRESH-INTERVAL;VALUE=DURATION:PT1H
X-Robots-Tag:noindex
X-PUBLISHED-TTL:PT1H
BEGIN:VTIMEZONE
TZID:America/New_York
BEGIN:DAYLIGHT
TZOFFSETFROM:-0500
TZOFFSETTO:-0400
TZNAME:EDT
DTSTART:20250309T070000
END:DAYLIGHT
BEGIN:STANDARD
TZOFFSETFROM:-0400
TZOFFSETTO:-0500
TZNAME:EST
DTSTART:20251102T060000
END:STANDARD
BEGIN:DAYLIGHT
TZOFFSETFROM:-0500
TZOFFSETTO:-0400
TZNAME:EDT
DTSTART:20260308T070000
END:DAYLIGHT
BEGIN:STANDARD
TZOFFSETFROM:-0400
TZOFFSETTO:-0500
TZNAME:EST
DTSTART:20261101T060000
END:STANDARD
BEGIN:DAYLIGHT
TZOFFSETFROM:-0500
TZOFFSETTO:-0400
TZNAME:EDT
DTSTART:20270314T070000
END:DAYLIGHT
BEGIN:STANDARD
TZOFFSETFROM:-0400
TZOFFSETTO:-0500
TZNAME:EST
DTSTART:20271107T060000
END:STANDARD
END:VTIMEZONE
BEGIN:VEVENT
DTSTART;TZID=America/New_York:20260903T110000
DTEND;TZID=America/New_York:20260903T150000
DTSTAMP:20260422T214854
CREATED:20260201T212051Z
LAST-MODIFIED:20260315T210916Z
UID:826-1788433200-1788447600@johnwalterband.org
SUMMARY:AirFest Concert – Naval Air Station Wildwood Aviation Museum
DESCRIPTION:AirFest proudly presents an array of historic aircraft for you to explore up close. In addition to the aviation spectacles\, attendees will be treated to live music from the John Walter Cape Community Band. Indulge in a diverse selection of culinary delights from food trucks\, unwind in beer and wine gardens\, and peruse through an assortment of vendors and exhibitors. AirFest runs 3-6 September from 10 a.m. – 4 p.m. The live concert band music is only on Thursday\, the 3rd starting at 11:00 a.m. \nGeneral admission for AirFest 2026 is $16 for adults and $12 for children (ages 3-12).
URL:https://johnwalterband.org/event/airfest-concert-naval-air-station-wildwood-aviation-museum-2/
LOCATION:Naval Air Station Wildwood Aviation Museum\, Cape May Airport\, 500 Forrestal Rd\, Cape May\, NJ\, 08204\, United States
CATEGORIES:Community Band
END:VEVENT
BEGIN:VEVENT
DTSTART;TZID=America/New_York:20260926T140000
DTEND;TZID=America/New_York:20260926T150000
DTSTAMP:20260422T214854
CREATED:20260122T164604Z
LAST-MODIFIED:20260122T164604Z
UID:809-1790431200-1790434800@johnwalterband.org
SUMMARY:John Walter Cape Community Band Concert at Cape May Zoo
DESCRIPTION:Enjoy a free outdoor concert at the Cape May Zoo Bandstand with the John Walter concert band.  Our theme this summer is American Music Through the Years.  Get your toes tapping and your hands clapping as the community concert band for Cape May County performs a variety of music that is sure to entertain audiences young and old.  So\, come out and join in the fun with the wonderful sounds of the John Walter Cape Community Band.  Bring your chairs or find a picnic table in front of the bandstand near the main entrance.
URL:https://johnwalterband.org/event/john-walter-cape-community-band-concert-at-cape-may-zoo/
LOCATION:Cape May County Zoo\, 707 US 9 South\, Cape May Courthouse\, NJ\, 08204\, United States
CATEGORIES:Community Band
END:VEVENT
END:VCALENDAR