BEGIN:VCALENDAR
VERSION:2.0
PRODID:-//John Walter Cape Community Band - ECPv6.15.20//NONSGML v1.0//EN
CALSCALE:GREGORIAN
METHOD:PUBLISH
X-ORIGINAL-URL:https://johnwalterband.org
X-WR-CALDESC:Events for John Walter Cape Community Band
REFRESH-INTERVAL;VALUE=DURATION:PT1H
X-Robots-Tag:noindex
X-PUBLISHED-TTL:PT1H
BEGIN:VTIMEZONE
TZID:America/New_York
BEGIN:DAYLIGHT
TZOFFSETFROM:-0500
TZOFFSETTO:-0400
TZNAME:EDT
DTSTART:20250309T070000
END:DAYLIGHT
BEGIN:STANDARD
TZOFFSETFROM:-0400
TZOFFSETTO:-0500
TZNAME:EST
DTSTART:20251102T060000
END:STANDARD
BEGIN:DAYLIGHT
TZOFFSETFROM:-0500
TZOFFSETTO:-0400
TZNAME:EDT
DTSTART:20260308T070000
END:DAYLIGHT
BEGIN:STANDARD
TZOFFSETFROM:-0400
TZOFFSETTO:-0500
TZNAME:EST
DTSTART:20261101T060000
END:STANDARD
BEGIN:DAYLIGHT
TZOFFSETFROM:-0500
TZOFFSETTO:-0400
TZNAME:EDT
DTSTART:20270314T070000
END:DAYLIGHT
BEGIN:STANDARD
TZOFFSETFROM:-0400
TZOFFSETTO:-0500
TZNAME:EST
DTSTART:20271107T060000
END:STANDARD
END:VTIMEZONE
BEGIN:VEVENT
DTSTART;TZID=America/New_York:20260522T110000
DTEND;TZID=America/New_York:20260522T120000
DTSTAMP:20260422T175327
CREATED:20260122T161825Z
LAST-MODIFIED:20260122T161825Z
UID:789-1779447600-1779451200@johnwalterband.org
SUMMARY:John Walter Cape Community Band Flags of Liberty Concert at Wildwood Convention Center
DESCRIPTION:Participants in the Elks-sponsored Flags of Liberty ceremony are in for a music treat!  When they gather in the atrium of the Wildwood Convention Center following the ceremony\, the band will perform a variety of entertaining patriotic music.
URL:https://johnwalterband.org/event/john-walter-cape-community-band-flags-of-liberty-concert-at-wildwood-convention-center/
LOCATION:Wildwood Convention Center\, 4501 Boardwalk\, Wildwood\, NJ\, 08260\, United States
CATEGORIES:Community Band
END:VEVENT
END:VCALENDAR