BEGIN:VCALENDAR
VERSION:2.0
PRODID:-//John Walter Cape Community Band - ECPv6.15.20//NONSGML v1.0//EN
CALSCALE:GREGORIAN
METHOD:PUBLISH
X-WR-CALNAME:John Walter Cape Community Band
X-ORIGINAL-URL:https://johnwalterband.org
X-WR-CALDESC:Events for John Walter Cape Community Band
REFRESH-INTERVAL;VALUE=DURATION:PT1H
X-Robots-Tag:noindex
X-PUBLISHED-TTL:PT1H
BEGIN:VTIMEZONE
TZID:America/New_York
BEGIN:DAYLIGHT
TZOFFSETFROM:-0500
TZOFFSETTO:-0400
TZNAME:EDT
DTSTART:20240310T070000
END:DAYLIGHT
BEGIN:STANDARD
TZOFFSETFROM:-0400
TZOFFSETTO:-0500
TZNAME:EST
DTSTART:20241103T060000
END:STANDARD
BEGIN:DAYLIGHT
TZOFFSETFROM:-0500
TZOFFSETTO:-0400
TZNAME:EDT
DTSTART:20250309T070000
END:DAYLIGHT
BEGIN:STANDARD
TZOFFSETFROM:-0400
TZOFFSETTO:-0500
TZNAME:EST
DTSTART:20251102T060000
END:STANDARD
BEGIN:DAYLIGHT
TZOFFSETFROM:-0500
TZOFFSETTO:-0400
TZNAME:EDT
DTSTART:20260308T070000
END:DAYLIGHT
BEGIN:STANDARD
TZOFFSETFROM:-0400
TZOFFSETTO:-0500
TZNAME:EST
DTSTART:20261101T060000
END:STANDARD
END:VTIMEZONE
BEGIN:VEVENT
DTSTART;TZID=America/New_York:20250809T110000
DTEND;TZID=America/New_York:20250809T113000
DTSTAMP:20260423T062833
CREATED:20250429T230657Z
LAST-MODIFIED:20250805T214456Z
UID:555-1754737200-1754739000@johnwalterband.org
SUMMARY:John Walter Brass Quintet Concert at Cape May Zoo
DESCRIPTION:The John Walter Brass Quintet will be performing a free concert at the Cape May Zoo bandstand as part of Praise in the Park Christian Music Festival 2025.  The Quintet will kick off the Festival Day on Saturday morning with a half hour of Christian hymns.
URL:https://johnwalterband.org/event/555/
LOCATION:Cape May County Zoo\, 707 US 9 South\, Cape May Courthouse\, NJ\, 08204\, United States
CATEGORIES:Brass Quintet
END:VEVENT
BEGIN:VEVENT
DTSTART;TZID=America/New_York:20250805T190000
DTEND;TZID=America/New_York:20250805T200000
DTSTAMP:20260423T062833
CREATED:20250206T213514Z
LAST-MODIFIED:20250805T205354Z
UID:367-1754420400-1754424000@johnwalterband.org
SUMMARY:John Walter Cape Community Band Concert at The Shores
DESCRIPTION:Residents of United Methodist Communities at The Shores are invited to enjoy a free indoor concert with the John Walter concert band.  Our theme this summer is Fun in the Sun.  Get your toes tapping and your hands clapping as the community concert band for Cape May County performs a variety of music that is sure to entertain.  So\, come out and join in the fun with the wonderful sounds of the John Walter Cape Community Band.
URL:https://johnwalterband.org/event/john-walter-cape-community-band-concert-at-the-shores/
LOCATION:United Methodist Communities at The Shores\, 2201 Bay Ave\, ocean city\, NJ\, 08226\, United States
CATEGORIES:Community Band
END:VEVENT
END:VCALENDAR