BEGIN:VCALENDAR
VERSION:2.0
PRODID:-//John Walter Cape Community Band - ECPv6.15.20//NONSGML v1.0//EN
CALSCALE:GREGORIAN
METHOD:PUBLISH
X-ORIGINAL-URL:https://johnwalterband.org
X-WR-CALDESC:Events for John Walter Cape Community Band
REFRESH-INTERVAL;VALUE=DURATION:PT1H
X-Robots-Tag:noindex
X-PUBLISHED-TTL:PT1H
BEGIN:VTIMEZONE
TZID:America/New_York
BEGIN:DAYLIGHT
TZOFFSETFROM:-0500
TZOFFSETTO:-0400
TZNAME:EDT
DTSTART:20240310T070000
END:DAYLIGHT
BEGIN:STANDARD
TZOFFSETFROM:-0400
TZOFFSETTO:-0500
TZNAME:EST
DTSTART:20241103T060000
END:STANDARD
BEGIN:DAYLIGHT
TZOFFSETFROM:-0500
TZOFFSETTO:-0400
TZNAME:EDT
DTSTART:20250309T070000
END:DAYLIGHT
BEGIN:STANDARD
TZOFFSETFROM:-0400
TZOFFSETTO:-0500
TZNAME:EST
DTSTART:20251102T060000
END:STANDARD
BEGIN:DAYLIGHT
TZOFFSETFROM:-0500
TZOFFSETTO:-0400
TZNAME:EDT
DTSTART:20260308T070000
END:DAYLIGHT
BEGIN:STANDARD
TZOFFSETFROM:-0400
TZOFFSETTO:-0500
TZNAME:EST
DTSTART:20261101T060000
END:STANDARD
END:VTIMEZONE
BEGIN:VEVENT
DTSTART;TZID=America/New_York:20251206T120000
DTEND;TZID=America/New_York:20251206T150000
DTSTAMP:20260422T185414
CREATED:20250206T215618Z
LAST-MODIFIED:20251028T160135Z
UID:372-1765022400-1765033200@johnwalterband.org
SUMMARY:John Walter Cape Community Band Christmas Concert at Byrne Plaza Winter Festival
DESCRIPTION:Enjoy your favorite Christmas music as the John Walter Cape Community Band performs holiday music at the Winter Festival at Byrne Plaza in downtown Wildwood.  This outstanding performance will include popular Christmas music that is sure to entertain audiences young and old.  Performances include the full band along with the John Walter Brass Quintet.  Free!
URL:https://johnwalterband.org/event/john-walter-cape-community-band-christmas-concert-at-byrne-plaza-winter-festival/
LOCATION:Byrne Plaza\, 3400 Pacific Ave\, Wildwood\, NJ\, 08260\, United States
CATEGORIES:Community Band
END:VEVENT
BEGIN:VEVENT
DTSTART;TZID=America/New_York:20251213T100000
DTEND;TZID=America/New_York:20251213T120000
DTSTAMP:20260422T185414
CREATED:20251028T160916Z
LAST-MODIFIED:20251028T160916Z
UID:741-1765620000-1765627200@johnwalterband.org
SUMMARY:John Walter Brass Quintet Concert at the Wildwood Convention Center Christmas Bazaar
DESCRIPTION:The John Walter Brass Quintet will be performing entertaining Christmas music for the Christmas Bazaar at the Wildwood Convention Center.  Enjoy the bazaar and get into the Christmas spirit with brass quintet music in the morning starting at 10:00 a.m.
URL:https://johnwalterband.org/event/john-walter-brass-quintet-concert-at-the-wildwood-convention-center-christmas-bazaar/
LOCATION:Wildwood Convention Center\, 4501 Boardwalk\, Wildwood\, NJ\, 08260\, United States
CATEGORIES:Brass Quintet
END:VEVENT
BEGIN:VEVENT
DTSTART;TZID=America/New_York:20251214T140000
DTEND;TZID=America/New_York:20251214T151500
DTSTAMP:20260422T185414
CREATED:20250106T024337Z
LAST-MODIFIED:20250806T202714Z
UID:286-1765720800-1765725300@johnwalterband.org
SUMMARY:John Walter Cape Community Band Holiday Concert at the Middle Township PAC
DESCRIPTION:Enjoy your favorite winter holiday music as the John Walter Cape Community Band presents its 2025 holiday concert at the Middle Township Performing Arts Center auditorium.  This outstanding performance will include popular Christmas music and other holiday tunes that are sure to entertain audiences young and old.  There will be drawings for poinsettias\, and the band will deliver any donated food to a local food bank.  The concert is free!
URL:https://johnwalterband.org/event/john-walter-cape-community-band-christmas-concert-at-the-middle-township-pac/
LOCATION:Middle Township Performing Arts Center\, 212 Bayberry Dr.\, Cape May Court House\, NJ\, 08210\, United States
CATEGORIES:Community Band
END:VEVENT
BEGIN:VEVENT
DTSTART;TZID=America/New_York:20251216T190000
DTEND;TZID=America/New_York:20251216T200000
DTSTAMP:20260422T185414
CREATED:20251016T134417Z
LAST-MODIFIED:20251016T134417Z
UID:698-1765911600-1765915200@johnwalterband.org
SUMMARY:John Walter Cape Community Band Christmas Concert at St. John Neumann
DESCRIPTION:Enjoy your favorite winter holiday music as the John Walter Cape Community Band presents its 2025 Christmas concert\, hosted by St. John Neumann Catholic Church in Cape May.  This outstanding performance will include popular Christmas music and other holiday tunes that are sure to entertain audiences young and old.  The concert is free! \nThere will be plenty of seats in a climate-controlled room for anyone interested in hearing live Christmas music on this Tuesday night. Also\, the band is collecting non-perishable food items to benefit local area food banks and shelters.
URL:https://johnwalterband.org/event/john-walter-cape-community-band-christmas-concert-at-st-john-neumann/
LOCATION:St. John Neumann\, 680 Town Bank Road\, North Cape May\, 08204\, United States
CATEGORIES:Community Band
END:VEVENT
BEGIN:VEVENT
DTSTART;TZID=America/New_York:20251220T180000
DTEND;TZID=America/New_York:20251220T190000
DTSTAMP:20260422T185414
CREATED:20251028T155917Z
LAST-MODIFIED:20251028T155917Z
UID:737-1766253600-1766257200@johnwalterband.org
SUMMARY:John Walter Brass Quintet Holiday Concert at the Cape May Lutheran Church
DESCRIPTION:The John Walter Brass Quintet will be performing a free holiday concert at the Cape May Lutheran Church. All are welcome. We will provide entertainment with a wide variety of Christmas and holiday music.
URL:https://johnwalterband.org/event/john-walter-brass-quintet-holiday-concert-at-the-cape-may-lutheran-church/
LOCATION:Cape May Lutheran Church\, 509 Pittsburgh Ave\, Cape May\, NJ\, 08204\, United States
CATEGORIES:Brass Quintet
END:VEVENT
END:VCALENDAR